BEGIN:VCALENDAR
VERSION:2.0
PRODID:icalendar-ruby
CALSCALE:GREGORIAN
METHOD:PUBLISH
BEGIN:VEVENT
DTSTAMP:20260422T115426Z
UID:112-1716031@transformtbay.com
DTSTART:20260809T143000Z
DTEND:20260809T153000Z
CLASS:PUBLIC
CREATED:20260422T063154
DESCRIPTION:Join us for worship.\nAre you new? Find out more by going here
LAST-MODIFIED:20260422T063154
LOCATION:
SUMMARY:Sunday Worship
URL;VALUE=URI:https://transformationchurchtbay.com/events/sunday-worship/20
 26-08-09
ATTACH;FILENAME=Sunday-Service-Thumbnail.png;FMTTYPE=image/png:https://dq5p
 wpg1q8ru0.cloudfront.net/2023/01/22/15/50/52/08052dc6-7886-4102-9275-df1c2
 e134597/Sunday-Service-Thumbnail.png
END:VEVENT
END:VCALENDAR
