BEGIN:VCALENDAR
VERSION:2.0
PRODID:icalendar-ruby
CALSCALE:GREGORIAN
METHOD:PUBLISH
BEGIN:VEVENT
DTSTAMP:20260424T223724Z
UID:184-1732331@transformtbay.com
DTSTART:20260619T110000Z
DTEND:20260619T120000Z
CLASS:PUBLIC
CREATED:20260424T175200
DESCRIPTION:Prayer Meeting every Friday at 7:00 AM in person at Transformat
 ion Church (Upstairs)
LAST-MODIFIED:20260424T175200
LOCATION:Transformation Church
SUMMARY:Prayer Group
URL;VALUE=URI:https://transformationchurchtbay.com/events/prayer-group/2026
 -06-19
END:VEVENT
END:VCALENDAR
