BEGIN:VCALENDAR
VERSION:2.0
PRODID:icalendar-ruby
CALSCALE:GREGORIAN
METHOD:PUBLISH
BEGIN:VEVENT
DTSTAMP:20260424T172613Z
UID:184-1730449@transformtbay.com
DTSTART:20260522T110000Z
DTEND:20260522T120000Z
CLASS:PUBLIC
CREATED:20260424T121815
DESCRIPTION:Prayer Meeting every Friday at 7:00 AM in person at Transformat
 ion Church (Upstairs)
LAST-MODIFIED:20260424T121815
LOCATION:Transformation Church
SUMMARY:Prayer Group
URL;VALUE=URI:https://transformationchurchtbay.com/events/prayer-group/2026
 -05-22
END:VEVENT
END:VCALENDAR
