BEGIN:VCALENDAR
VERSION:2.0
PRODID:icalendar-ruby
CALSCALE:GREGORIAN
METHOD:PUBLISH
BEGIN:VEVENT
DTSTAMP:20260426T031650Z
UID:61-140734@transformtbay.com
DTSTART:20220206T160000Z
DTEND:20220206T170000Z
CLASS:PUBLIC
CREATED:20220529T093055
DESCRIPTION:
LAST-MODIFIED:20220529T093055
LOCATION:
SUMMARY:Gathering
URL;VALUE=URI:https://transformationchurchtbay.com/events/gathering/2022-02
 -06
ATTACH;FILENAME=Sunday Service.png;FMTTYPE=image/png:https://dq5pwpg1q8ru0.
 cloudfront.net/2020/01/04/11/49/51/60199722-59ee-481d-8f5e-819e37d0a9b1/Su
 nday%20Service.png
END:VEVENT
END:VCALENDAR
